BEGIN:VCALENDAR
VERSION:2.0
PRODID:-//wp-events-plugin.com//7.0.4//EN
TZID:America/New_York
X-WR-TIMEZONE:America/New_York
BEGIN:VEVENT
UID:2101@haitianbiblechurch.com
DTSTART;TZID=America/New_York:20260920T091500
DTEND;TZID=America/New_York:20260927T111500
DTSTAMP:20250128T023221Z
URL:https://haitianbiblechurch.com/events/sunday-worship-service-2026-09-2
 0/
SUMMARY:Sunday Worship Service
DESCRIPTION:
END:VEVENT
BEGIN:VTIMEZONE
TZID:America/New_York
X-LIC-LOCATION:America/New_York
BEGIN:DAYLIGHT
DTSTART:20260308T030000
TZOFFSETFROM:-0500
TZOFFSETTO:-0400
TZNAME:EDT
END:DAYLIGHT
END:VTIMEZONE
END:VCALENDAR