BEGIN:VCALENDAR
VERSION:2.0
PRODID:-//wp-events-plugin.com//7.0.4//EN
TZID:America/New_York
X-WR-TIMEZONE:America/New_York
BEGIN:VEVENT
UID:2164@haitianbiblechurch.com
DTSTART;TZID=America/New_York:20271205T091500
DTEND;TZID=America/New_York:20271212T111500
DTSTAMP:20250128T023221Z
URL:https://haitianbiblechurch.com/events/sunday-worship-service-2027-12-0
 5/
SUMMARY:Sunday Worship Service
DESCRIPTION:
END:VEVENT
BEGIN:VTIMEZONE
TZID:America/New_York
X-LIC-LOCATION:America/New_York
BEGIN:STANDARD
DTSTART:20271107T010000
TZOFFSETFROM:-0400
TZOFFSETTO:-0500
TZNAME:EST
END:STANDARD
END:VTIMEZONE
END:VCALENDAR