BEGIN:VCALENDAR
VERSION:2.0
PRODID:-//wp-events-plugin.com//7.0.4//EN
TZID:America/New_York
X-WR-TIMEZONE:America/New_York
BEGIN:VEVENT
UID:2272@haitianbiblechurch.com
DTSTART;TZID=America/New_York:20291230T091500
DTEND;TZID=America/New_York:20300106T111500
DTSTAMP:20250128T023221Z
URL:https://haitianbiblechurch.com/events/sunday-worship-service-2029-12-3
 0/
SUMMARY:Sunday Worship Service
DESCRIPTION:
END:VEVENT
BEGIN:VTIMEZONE
TZID:America/New_York
X-LIC-LOCATION:America/New_York
BEGIN:STANDARD
DTSTART:20291104T010000
TZOFFSETFROM:-0400
TZOFFSETTO:-0500
TZNAME:EST
END:STANDARD
END:VTIMEZONE
END:VCALENDAR